BEGIN:VCALENDAR
VERSION:2.0
PRODID:-//International Judo League - ECPv6.15.20//NONSGML v1.0//EN
CALSCALE:GREGORIAN
METHOD:PUBLISH
X-WR-CALNAME:International Judo League
X-ORIGINAL-URL:https://ijl-poland.com
X-WR-CALDESC:Wydarzenia dla International Judo League
REFRESH-INTERVAL;VALUE=DURATION:PT1H
X-Robots-Tag:noindex
X-PUBLISHED-TTL:PT1H
BEGIN:VTIMEZONE
TZID:Europe/Warsaw
BEGIN:DAYLIGHT
TZOFFSETFROM:+0100
TZOFFSETTO:+0200
TZNAME:CEST
DTSTART:20220327T010000
END:DAYLIGHT
BEGIN:STANDARD
TZOFFSETFROM:+0200
TZOFFSETTO:+0100
TZNAME:CET
DTSTART:20221030T010000
END:STANDARD
BEGIN:DAYLIGHT
TZOFFSETFROM:+0100
TZOFFSETTO:+0200
TZNAME:CEST
DTSTART:20230326T010000
END:DAYLIGHT
BEGIN:STANDARD
TZOFFSETFROM:+0200
TZOFFSETTO:+0100
TZNAME:CET
DTSTART:20231029T010000
END:STANDARD
BEGIN:DAYLIGHT
TZOFFSETFROM:+0100
TZOFFSETTO:+0200
TZNAME:CEST
DTSTART:20240331T010000
END:DAYLIGHT
BEGIN:STANDARD
TZOFFSETFROM:+0200
TZOFFSETTO:+0100
TZNAME:CET
DTSTART:20241027T010000
END:STANDARD
END:VTIMEZONE
BEGIN:VEVENT
DTSTART;VALUE=DATE:20230930
DTEND;VALUE=DATE:20231002
DTSTAMP:20260421T223912
CREATED:20230918T115736Z
LAST-MODIFIED:20230918T115736Z
UID:992-1696032000-1696204799@ijl-poland.com
SUMMARY:32. Turniej Judo im. Antoniego Reitera
DESCRIPTION:Po raz 32. zapraszamy do udziału w organizowanym przez nasz klub Turnieju im. Antoniego Reitera. W tym roku\, podobnie jak w latach ubiegłych\, turniej organizowany jest w ramach International Judo League. \nZ radością informujemy\, że po raz pierwszy w historii naszego turnieju\, zapraszamy do udziału także zawodników i zawodniczki z kategorii wiekowej U17 (2007 i 2008). \nDodatkowo zwracamy uwagę: nasz turniej trwa dwa dni! W sobotę startują zawodnicy kategorii U13\, U15 i U17\, a w niedzielę zawodnicy kategorii U11. \nSzczegóły dotyczące turnieju i campu szkoleniowego\, dostępne w komunikacie. \nOutlines in English available here
URL:https://ijl-poland.com/wydarzenia/32-turniej-judo-im-antoniego-reitera/
LOCATION:Hala sportowa ZSO r 7\, Chałubińskiego 13\, Gdańsk\, Pomorskie\, 80-807\, Poland
CATEGORIES:Zawody
ATTACH;FMTTYPE=image/jpeg:https://ijl-poland.com/wp-content/uploads/2023/09/reiter_fb-1024x538-1.jpg
ORGANIZER;CN="UKS Conrad Gda%C5%84sk":MAILTO:irkot@wp.pl
END:VEVENT
END:VCALENDAR