BEGIN:VCALENDAR
VERSION:2.0
PRODID:-//International Judo League - ECPv6.15.20//NONSGML v1.0//EN
CALSCALE:GREGORIAN
METHOD:PUBLISH
X-WR-CALNAME:International Judo League
X-ORIGINAL-URL:https://ijl-poland.com
X-WR-CALDESC:Wydarzenia dla International Judo League
REFRESH-INTERVAL;VALUE=DURATION:PT1H
X-Robots-Tag:noindex
X-PUBLISHED-TTL:PT1H
BEGIN:VTIMEZONE
TZID:Europe/Warsaw
BEGIN:DAYLIGHT
TZOFFSETFROM:+0100
TZOFFSETTO:+0200
TZNAME:CEST
DTSTART:20220327T010000
END:DAYLIGHT
BEGIN:STANDARD
TZOFFSETFROM:+0200
TZOFFSETTO:+0100
TZNAME:CET
DTSTART:20221030T010000
END:STANDARD
BEGIN:DAYLIGHT
TZOFFSETFROM:+0100
TZOFFSETTO:+0200
TZNAME:CEST
DTSTART:20230326T010000
END:DAYLIGHT
BEGIN:STANDARD
TZOFFSETFROM:+0200
TZOFFSETTO:+0100
TZNAME:CET
DTSTART:20231029T010000
END:STANDARD
BEGIN:DAYLIGHT
TZOFFSETFROM:+0100
TZOFFSETTO:+0200
TZNAME:CEST
DTSTART:20240331T010000
END:DAYLIGHT
BEGIN:STANDARD
TZOFFSETFROM:+0200
TZOFFSETTO:+0100
TZNAME:CET
DTSTART:20241027T010000
END:STANDARD
END:VTIMEZONE
BEGIN:VEVENT
DTSTART;TZID=Europe/Warsaw:20230416T090000
DTEND;TZID=Europe/Warsaw:20230417T160000
DTSTAMP:20260421T212147
CREATED:20230317T201404Z
LAST-MODIFIED:20230321T223505Z
UID:686-1681635600-1681747200@ijl-poland.com
SUMMARY:Camp po turnieju w Bytomiu
DESCRIPTION:Zapraszamy na kamp\, który odbędzie się po zawodach IJL w Bytomiu. Odbędą się dwa treningi: \nRandori: 09:00 – 11:00\, technika + randori: 17:00 – 19:00 – niedziela 16.04.2023 \nRandori: 09:00 – 11:00\, 14:00 – 16:00 – poniedziałek 17.04.2023\n \nCamp dla zawodników biorących udział w turnieju jest bezpłatny. Dla pozostałych opłata w wysokości 80 zł / 18 euro. \nSeminarium poprowadzi Piotr sadowski – 7 krotny Mistrz Polski: \n\nzdobywca 7 miejsca na Mistrzostwach Świata\nzdobywca 5 miejsca na Mistrzostwach Europy\nbyły trener Polskiej Reprezentacji Olimpijskiej\n\nDo zobaczenia na miejscu!
URL:https://ijl-poland.com/wydarzenia/camp-po-turnieju-w-bytomiu/
LOCATION:Hala sportowa na Skarpie\, Frycza-Modrzewskiego 5a\, Bytom\, Śląskie\, Poland
CATEGORIES:Camp
ATTACH;FMTTYPE=image/jpeg:https://ijl-poland.com/wp-content/uploads/2023/03/DSC_9888.jpg
ORGANIZER;CN="UKS Feniks":MAILTO:sekretariat.feniks@gmail.com
END:VEVENT
END:VCALENDAR