BEGIN:VCALENDAR
VERSION:2.0
PRODID:-//International Judo League - ECPv6.15.20//NONSGML v1.0//EN
CALSCALE:GREGORIAN
METHOD:PUBLISH
X-WR-CALNAME:International Judo League
X-ORIGINAL-URL:https://ijl-poland.com
X-WR-CALDESC:Wydarzenia dla International Judo League
REFRESH-INTERVAL;VALUE=DURATION:PT1H
X-Robots-Tag:noindex
X-PUBLISHED-TTL:PT1H
BEGIN:VTIMEZONE
TZID:Europe/Warsaw
BEGIN:DAYLIGHT
TZOFFSETFROM:+0100
TZOFFSETTO:+0200
TZNAME:CEST
DTSTART:20220327T010000
END:DAYLIGHT
BEGIN:STANDARD
TZOFFSETFROM:+0200
TZOFFSETTO:+0100
TZNAME:CET
DTSTART:20221030T010000
END:STANDARD
BEGIN:DAYLIGHT
TZOFFSETFROM:+0100
TZOFFSETTO:+0200
TZNAME:CEST
DTSTART:20230326T010000
END:DAYLIGHT
BEGIN:STANDARD
TZOFFSETFROM:+0200
TZOFFSETTO:+0100
TZNAME:CET
DTSTART:20231029T010000
END:STANDARD
BEGIN:DAYLIGHT
TZOFFSETFROM:+0100
TZOFFSETTO:+0200
TZNAME:CEST
DTSTART:20240331T010000
END:DAYLIGHT
BEGIN:STANDARD
TZOFFSETFROM:+0200
TZOFFSETTO:+0100
TZNAME:CET
DTSTART:20241027T010000
END:STANDARD
END:VTIMEZONE
BEGIN:VEVENT
DTSTART;TZID=Europe/Warsaw:20230514T090000
DTEND;TZID=Europe/Warsaw:20230514T123000
DTSTAMP:20260421T213015
CREATED:20230320T150026Z
LAST-MODIFIED:20230320T150026Z
UID:736-1684054800-1684067400@ijl-poland.com
SUMMARY:Camp po zawodach w Opolu
DESCRIPTION:Serdecznie zapraszamy na wspólny trening po zawodach w Opolu\, który odbędzie się 14.05.2023 w Toyota Park (100 m od miejsca zawodów) \n14.05.2023 Toyota Park\n09:00 – trening grupa młodsza\n10:30 – trening grupa starsza
URL:https://ijl-poland.com/wydarzenia/camp-po-zawodach-w-opolu/
LOCATION:Toyota Park\, Oleska 70\, Opole\, Opolskie\, 45-222
CATEGORIES:Camp
ATTACH;FMTTYPE=image/jpeg:https://ijl-poland.com/wp-content/uploads/2023/03/ijl-tlo.jpg
ORGANIZER;CN="KJ AZS Opole":MAILTO:kontakt@judoopole.pl
END:VEVENT
END:VCALENDAR