BEGIN:VCALENDAR
VERSION:2.0
PRODID:-//International Judo League - ECPv6.15.20//NONSGML v1.0//EN
CALSCALE:GREGORIAN
METHOD:PUBLISH
X-WR-CALNAME:International Judo League
X-ORIGINAL-URL:https://ijl-poland.com
X-WR-CALDESC:Wydarzenia dla International Judo League
REFRESH-INTERVAL;VALUE=DURATION:PT1H
X-Robots-Tag:noindex
X-PUBLISHED-TTL:PT1H
BEGIN:VTIMEZONE
TZID:Europe/Warsaw
BEGIN:DAYLIGHT
TZOFFSETFROM:+0100
TZOFFSETTO:+0200
TZNAME:CEST
DTSTART:20220327T010000
END:DAYLIGHT
BEGIN:STANDARD
TZOFFSETFROM:+0200
TZOFFSETTO:+0100
TZNAME:CET
DTSTART:20221030T010000
END:STANDARD
BEGIN:DAYLIGHT
TZOFFSETFROM:+0100
TZOFFSETTO:+0200
TZNAME:CEST
DTSTART:20230326T010000
END:DAYLIGHT
BEGIN:STANDARD
TZOFFSETFROM:+0200
TZOFFSETTO:+0100
TZNAME:CET
DTSTART:20231029T010000
END:STANDARD
BEGIN:DAYLIGHT
TZOFFSETFROM:+0100
TZOFFSETTO:+0200
TZNAME:CEST
DTSTART:20240331T010000
END:DAYLIGHT
BEGIN:STANDARD
TZOFFSETFROM:+0200
TZOFFSETTO:+0100
TZNAME:CET
DTSTART:20241027T010000
END:STANDARD
END:VTIMEZONE
BEGIN:VEVENT
DTSTART;TZID=Europe/Warsaw:20230423T090000
DTEND;TZID=Europe/Warsaw:20230423T110000
DTSTAMP:20260421T210440
CREATED:20230405T192025Z
LAST-MODIFIED:20230405T192025Z
UID:752-1682240400-1682247600@ijl-poland.com
SUMMARY:Camp po zawodach w Warszawie
DESCRIPTION:Zapraszamy na camp ! \nOtwarcie sali – 8:30\nTechnika plus randori od 9:00 do 11:00. Prawo bezpłatnego udziału dla zawodników biorących udział w turnieju IJL w sobotę 22 kwietnia 2023.
URL:https://ijl-poland.com/wydarzenia/camp-po-zawodach-w-warszawie/
LOCATION:Hala Sportowa „Koło”\, Obozowa 60\, Warszawa\, Mazowieckie\, 01-423\, Poland
CATEGORIES:Camp
ATTACH;FMTTYPE=image/png:https://ijl-poland.com/wp-content/uploads/2023/04/hato-judo.png
ORGANIZER;CN="H%C4%81to Judo":MAILTO:info@hatojudo.pl
END:VEVENT
END:VCALENDAR