BEGIN:VCALENDAR
VERSION:2.0
PRODID:-//International Judo League - ECPv6.15.20//NONSGML v1.0//EN
CALSCALE:GREGORIAN
METHOD:PUBLISH
X-WR-CALNAME:International Judo League
X-ORIGINAL-URL:https://ijl-poland.com
X-WR-CALDESC:Wydarzenia dla International Judo League
REFRESH-INTERVAL;VALUE=DURATION:PT1H
X-Robots-Tag:noindex
X-PUBLISHED-TTL:PT1H
BEGIN:VTIMEZONE
TZID:Europe/Warsaw
BEGIN:DAYLIGHT
TZOFFSETFROM:+0100
TZOFFSETTO:+0200
TZNAME:CEST
DTSTART:20220327T010000
END:DAYLIGHT
BEGIN:STANDARD
TZOFFSETFROM:+0200
TZOFFSETTO:+0100
TZNAME:CET
DTSTART:20221030T010000
END:STANDARD
BEGIN:DAYLIGHT
TZOFFSETFROM:+0100
TZOFFSETTO:+0200
TZNAME:CEST
DTSTART:20230326T010000
END:DAYLIGHT
BEGIN:STANDARD
TZOFFSETFROM:+0200
TZOFFSETTO:+0100
TZNAME:CET
DTSTART:20231029T010000
END:STANDARD
BEGIN:DAYLIGHT
TZOFFSETFROM:+0100
TZOFFSETTO:+0200
TZNAME:CEST
DTSTART:20240331T010000
END:DAYLIGHT
BEGIN:STANDARD
TZOFFSETFROM:+0200
TZOFFSETTO:+0100
TZNAME:CET
DTSTART:20241027T010000
END:STANDARD
END:VTIMEZONE
BEGIN:VEVENT
DTSTART;VALUE=DATE:20230415
DTEND;VALUE=DATE:20230417
DTSTAMP:20260421T212114
CREATED:20230309T074959Z
LAST-MODIFIED:20230321T223837Z
UID:9-1681516800-1681689599@ijl-poland.com
SUMMARY:Iinternational Judo League Bytom
DESCRIPTION:IJL – VI Międzynarodowe Mistrzostwa Bytomia w Judo rozpoczną kolejną edycję największej dziecięcej ligi Judo – International Judo League.\n\n\n Zapraszamy do Bytomia!\n\n\n 8 tatami | 1000 zawodników z Polski i Europy | live streaming\n\n\n IJL – VI Bytom International Judo Championships will kick off 2023 edition of the largest youth judo league – International Judo League.\n\n\n We invite you to Bytom!\n\n\n 8 tatami | 1000 competitors from Poland and Europe | live streaming\n\n\n Link rejestracyjny jest już aktywny:\nhttps://judo.website.pl/turnieje\n\n \n Organizational message in english
URL:https://ijl-poland.com/wydarzenia/ijl-bytom/
LOCATION:Hala sportowa na Skarpie\, Frycza-Modrzewskiego 5a\, Bytom\, Śląskie\, Poland
CATEGORIES:Zawody
ATTACH;FMTTYPE=image/jpeg:https://ijl-poland.com/wp-content/uploads/2023/03/DSC_9888.jpg
ORGANIZER;CN="UKS Feniks":MAILTO:sekretariat.feniks@gmail.com
END:VEVENT
END:VCALENDAR