BEGIN:VCALENDAR
VERSION:2.0
PRODID:-//International Judo League - ECPv6.15.20//NONSGML v1.0//EN
CALSCALE:GREGORIAN
METHOD:PUBLISH
X-ORIGINAL-URL:https://ijl-poland.com
X-WR-CALDESC:Wydarzenia dla International Judo League
REFRESH-INTERVAL;VALUE=DURATION:PT1H
X-Robots-Tag:noindex
X-PUBLISHED-TTL:PT1H
BEGIN:VTIMEZONE
TZID:Europe/Warsaw
BEGIN:DAYLIGHT
TZOFFSETFROM:+0100
TZOFFSETTO:+0200
TZNAME:CEST
DTSTART:20240331T010000
END:DAYLIGHT
BEGIN:STANDARD
TZOFFSETFROM:+0200
TZOFFSETTO:+0100
TZNAME:CET
DTSTART:20241027T010000
END:STANDARD
BEGIN:DAYLIGHT
TZOFFSETFROM:+0100
TZOFFSETTO:+0200
TZNAME:CEST
DTSTART:20250330T010000
END:DAYLIGHT
BEGIN:STANDARD
TZOFFSETFROM:+0200
TZOFFSETTO:+0100
TZNAME:CET
DTSTART:20251026T010000
END:STANDARD
BEGIN:DAYLIGHT
TZOFFSETFROM:+0100
TZOFFSETTO:+0200
TZNAME:CEST
DTSTART:20260329T010000
END:DAYLIGHT
BEGIN:STANDARD
TZOFFSETFROM:+0200
TZOFFSETTO:+0100
TZNAME:CET
DTSTART:20261025T010000
END:STANDARD
BEGIN:DAYLIGHT
TZOFFSETFROM:+0100
TZOFFSETTO:+0200
TZNAME:CEST
DTSTART:20270328T010000
END:DAYLIGHT
BEGIN:STANDARD
TZOFFSETFROM:+0200
TZOFFSETTO:+0100
TZNAME:CET
DTSTART:20271031T010000
END:STANDARD
END:VTIMEZONE
BEGIN:VEVENT
DTSTART;VALUE=DATE:20251018
DTEND;VALUE=DATE:20251019
DTSTAMP:20260421T215711
CREATED:20251013T084314Z
LAST-MODIFIED:20251013T084935Z
UID:1228-1760745600-1760831999@ijl-poland.com
SUMMARY:Turniej im. Przyszłych Olimpijczyków Kąty Wrocławskie 18.10
DESCRIPTION:🥋 Turniej Przyszłych Olimpijczyków – Kąty Wrocławskie już 18 października!\nJuż 18 października 2025 roku spotykamy się w Kątach Wrocławskich na kolejnym etapie International Judo League! 💪Tym razem gospodarzem wydarzenia jest MKS Juvenia Wrocław\, która zaprasza wszystkich młodych judoków do udziału w Turnieju im. Przyszłych Olimpijczyków. \nTo jeden z najbardziej inspirujących przystanków na mapie IJL 2025 – turniej\, w którym młodzi zawodnicy mogą sprawdzić swoje umiejętności\, zdobyć cenne doświadczenie i poczuć atmosferę wielkich sportowych emocji. \n👉 Data: 18.10.2025📍 Miejsce: Kąty Wrocławskie🏆 Organizator: MKS Juvenia Wrocław \nNie może Was zabraknąć! To kolejny krok w drodze do mistrzostwa i świetna okazja\, by spotkać judoków z całej Polski. \n📄 Pobierz komunikat wydarzenia
URL:https://ijl-poland.com/wydarzenia/turniej-im-przyszlych-olimpijczykow-katy-wroclawskie-18-10/
LOCATION:Hala Widowiskowo-Sportowo w Kątach Wrocławskich\, Brzozowa 4\, Kąty Wrocławskie\, 55-080\, Poland
CATEGORIES:Zawody
ATTACH;FMTTYPE=image/png:https://ijl-poland.com/wp-content/uploads/2025/10/International-Judo-League-2.png
END:VEVENT
BEGIN:VEVENT
DTSTART;VALUE=DATE:20251108
DTEND;VALUE=DATE:20251109
DTSTAMP:20260421T215711
CREATED:20251024T120248Z
LAST-MODIFIED:20251024T120248Z
UID:1239-1762560000-1762646399@ijl-poland.com
SUMMARY:Memoriał im. Jigoro Kano 8.11.2025 Poznań - komunikat
DESCRIPTION:8 listopada 2025 roku Poznań ponownie stanie się stolicą judo! W hali UAM przy ul. Zagajnikowej odbędzie się XVII Memoriał im. Jigoro Kano – Szansa dla Każdego\, jedno z największych i najbardziej prestiżowych wydarzeń judo w Polsce\, organizowane w ramach cyklu International Judo League. \nW zawodach udział wezmą setki zawodników z całej Polski i Europy\, rywalizując w duchu wartości judo – szacunku\, odwagi i przyjaźni. Każdy uczestnik otrzyma pamiątkową\, limitowaną koszulkę turniejową – symbol udziału w tym wyjątkowym wydarzeniu. \nA to nie koniec emocji! Zaraz po zawodach odbędzie się Winter Champion Judo Camp\, którego gościem specjalnym będzie Joshiro Maruyama – mistrz świata i jeden z najbardziej utytułowanych judoków świata 🇯🇵 \n📍 Miejsce: Hala UAM\, ul. Zagajnikowa 9\, Poznań📅 Data: 8 listopada 2025 (Memoriał) | 8–11 listopada 2025 (Camp)🎯 Organizator: Akademia Judo Poznań
URL:https://ijl-poland.com/wydarzenia/memorial-im-jigoro-kano-8-11-2025-poznan-komunikat/
LOCATION:Hala Sportwa Kampus Morasko\, Zagajnikowa 9\, Poznań\, Wielkopolskie\, 61-602\, Poland
ATTACH;FMTTYPE=image/jpeg:https://ijl-poland.com/wp-content/uploads/2025/10/547635814_791930356544217_628807599613167021_n.jpg
ORGANIZER;CN="Akademia Judo Pozna%C5%84":MAILTO:zawody@akademiajudo.pl
END:VEVENT
BEGIN:VEVENT
DTSTART;VALUE=DATE:20251122
DTEND;VALUE=DATE:20251123
DTSTAMP:20260421T215711
CREATED:20251024T121435Z
LAST-MODIFIED:20251024T121435Z
UID:1242-1763769600-1763855999@ijl-poland.com
SUMMARY:34. Turniej Judo im. Antoniego Reitera
DESCRIPTION:Już 22 listopada 2025 roku w Gdańsku odbędzie się Turniej im. Antoniego Reitera\, który będzie ostatnim przystankiem cyklu International Judo League w sezonie 2025! \nTo wyjątkowe wydarzenie\, upamiętniające jednego z pionierów polskiego judo\, co roku gromadzi setki zawodników z całej Polski i Europy. Na tatami zobaczymy młodych judoków walczących o cenne punkty rankingowe IJL oraz o tytuł najlepszego w swojej kategorii. \n📍 Miejsce: Gdańsk📅 Data: 22 listopada 2025🌍 Cykl: International Judo League
URL:https://ijl-poland.com/wydarzenia/34-turniej-judo-im-antoniego-reitera/
LOCATION:Hala sportowa ZSO r 7\, Chałubińskiego 13\, Gdańsk\, Pomorskie\, 80-807\, Poland
CATEGORIES:Zawody
ATTACH;FMTTYPE=image/png:https://ijl-poland.com/wp-content/uploads/2025/10/Dolacz-do-naszej-spolecznosci-na-WhatsApp-i-badz-NaBiezaco-2.png
ORGANIZER;CN="UKS Conrad Gda%C5%84sk":MAILTO:irkot@wp.pl
END:VEVENT
BEGIN:VEVENT
DTSTART;VALUE=DATE:20260328
DTEND;VALUE=DATE:20260331
DTSTAMP:20260421T215711
CREATED:20260302T070934Z
LAST-MODIFIED:20260326T123649Z
UID:1254-1774656000-1774915199@ijl-poland.com
SUMMARY:Bytom Judo Open
DESCRIPTION:🥋🔥 RUSZAMY Z INTERNATIONAL JUDO LEAGUE 2026!\nJuż wkrótce spotykamy się na Bytom Judo Open\, który będzie pierwszym przystankiem na mapie International Judo League w sezonie 2026 🌍\nTo właśnie tutaj zaczynamy tegoroczną ligową podróż – pełną emocji\, sportowej rywalizacji i świetnej atmosfery na macie!\nZapraszamy zawodników\, trenerów oraz wszystkich miłośników judo do udziału w tym wydarzeniu 👊\nNiech Bytom będzie mocnym otwarciem sezonu!\n👉 Do zobaczenia na macie!
URL:https://ijl-poland.com/wydarzenia/bytom-judo-open/
LOCATION:Hala sportowa na Skarpie\, Frycza-Modrzewskiego 5a\, Bytom\, Śląskie\, Poland
CATEGORIES:Camp,Zawody
ATTACH;FMTTYPE=image/webp:https://ijl-poland.com/wp-content/uploads/2026/03/feniks-butom.webp
ORGANIZER;CN="UKS Feniks":MAILTO:sekretariat.feniks@gmail.com
END:VEVENT
BEGIN:VEVENT
DTSTART;TZID=Europe/Warsaw:20260418T080000
DTEND;TZID=Europe/Warsaw:20260419T170000
DTSTAMP:20260421T215711
CREATED:20260318T221739Z
LAST-MODIFIED:20260413T213628Z
UID:1280-1776499200-1776618000@ijl-poland.com
SUMMARY:X Hato Judo Cup
DESCRIPTION:Z ogromną radością zapraszamy na 10. edycję turnieju Hato Judo Cup – wyjątkowe wydarzenie\, które od lat gromadzi pasjonatów judo z całego kraju i nie tylko.\n\n\n\nTo będzie jubileuszowa odsłona pełna sportowych emocji\, rywalizacji na najwyższym poziomie i niezapomnianej atmosfery! \n\n\n Data: 18-19 kwietnia 2026\n Miejsce: Hala Sportowa\, ul. Kwiatowa 28\, Mysiadło\n\n\n\nNie może Was zabraknąć – zarówno zawodników\, jak i kibiców! Przygotujcie się na dwa dni pełene wrażeń i judo na najwyższym poziomie.
URL:https://ijl-poland.com/wydarzenia/x-hato-judo-cup/
LOCATION:Hala Sportowa ul. Kwiatowa Mysiadło\, ul. Kwiatowa 28\, Mysiadło\, mazowieckie\, 05-500\, Poland
CATEGORIES:Zawody
ATTACH;FMTTYPE=image/png:https://ijl-poland.com/wp-content/uploads/2026/04/671510846_1746641916624219_1938736306180159094_n-scaled.png
ORGANIZER;CN="H%C4%81to Judo":MAILTO:info@hatojudo.pl
END:VEVENT
END:VCALENDAR