BEGIN:VCALENDAR
VERSION:2.0
PRODID:-//International Judo League - ECPv6.15.20//NONSGML v1.0//EN
CALSCALE:GREGORIAN
METHOD:PUBLISH
X-WR-CALNAME:International Judo League
X-ORIGINAL-URL:https://ijl-poland.com
X-WR-CALDESC:Wydarzenia dla International Judo League
REFRESH-INTERVAL;VALUE=DURATION:PT1H
X-Robots-Tag:noindex
X-PUBLISHED-TTL:PT1H
BEGIN:VTIMEZONE
TZID:Europe/Warsaw
BEGIN:DAYLIGHT
TZOFFSETFROM:+0100
TZOFFSETTO:+0200
TZNAME:CEST
DTSTART:20220327T010000
END:DAYLIGHT
BEGIN:STANDARD
TZOFFSETFROM:+0200
TZOFFSETTO:+0100
TZNAME:CET
DTSTART:20221030T010000
END:STANDARD
BEGIN:DAYLIGHT
TZOFFSETFROM:+0100
TZOFFSETTO:+0200
TZNAME:CEST
DTSTART:20230326T010000
END:DAYLIGHT
BEGIN:STANDARD
TZOFFSETFROM:+0200
TZOFFSETTO:+0100
TZNAME:CET
DTSTART:20231029T010000
END:STANDARD
BEGIN:DAYLIGHT
TZOFFSETFROM:+0100
TZOFFSETTO:+0200
TZNAME:CEST
DTSTART:20240331T010000
END:DAYLIGHT
BEGIN:STANDARD
TZOFFSETFROM:+0200
TZOFFSETTO:+0100
TZNAME:CET
DTSTART:20241027T010000
END:STANDARD
END:VTIMEZONE
BEGIN:VEVENT
DTSTART;VALUE=DATE:20230513
DTEND;VALUE=DATE:20230514
DTSTAMP:20260421T210125
CREATED:20230320T144529Z
LAST-MODIFIED:20230320T150214Z
UID:718-1683936000-1684022399@ijl-poland.com
SUMMARY:Memoriał Edwarda Faciejewa
DESCRIPTION:MEMORIAŁ EDWARDA FACIEJEWA-International Judo League w Opolu\nW dniach 13-14.05.2023 zapraszamy do hali Stegu Arena w Opolu na międzynarodowy turniej judo dla dzieci i młodzieży rozgrywany w ramach International Judo League (IJL). Celem tej cyklicznej imprezy jest upamiętnienie postaci zmarłego trenera i założyciela Klubu Judo AZS Opole. Impreza to również promocja miasta i regionu\, ale przede wszystkim możliwość spotkania i rywalizacji dzieci i młodzieży z Polski i zagranicy. Szczegóły imprezy oraz komunikat w załączeniu.\n13.05.2023 – Stegu Arena\n11:00 – walki kategorii U11\n13:00 – walki kategorii U13\n15:00 – walki kategorii U15\n16:30 – walki kategorii U17\n14.05.2023 Toyota Park\n09:00 – trening grupa młodsza\n10:30 – trening grupa starsza
URL:https://ijl-poland.com/wydarzenia/memorial-edwarda-faciejewa/
LOCATION:Stegu Arena\, Oleska 70\, Opole\, Opolskie\, 45-222\, Poland
CATEGORIES:Zawody
ATTACH;FMTTYPE=image/jpeg:https://ijl-poland.com/wp-content/uploads/2023/03/ijl-tlo.jpg
ORGANIZER;CN="KJ AZS Opole":MAILTO:kontakt@judoopole.pl
END:VEVENT
END:VCALENDAR